BEGIN:VCALENDAR
PRODID;X-RICAL-TZSOURCE=TZINFO:-//Calagator//EN
CALSCALE:GREGORIAN
X-WR-CALNAME:Adapt2Play
METHOD:PUBLISH
VERSION:2.0
BEGIN:VEVENT
CREATED;VALUE=DATE-TIME:20260415T000321Z
DTEND;VALUE=DATE-TIME:20260509T190000Z
DTSTART;VALUE=DATE-TIME:20260509T180000Z
DTSTAMP;VALUE=DATE-TIME:20260415T000321Z
LAST-MODIFIED;VALUE=DATE-TIME:20260415T000321Z
UID:https://adapt2play.org/events/23051-youth-summer-kick-off
DESCRIPTION:Click here for more information\nClick here to register/waitl
 ist\n\nImported from: https://adapt2play.org/events/23051-youth-summer-k
 ick-off
URL:https://hisra.org/event/youth-summer-kick-off/
SUMMARY:Youth Summer Kick-Off
LOCATION:Location:: Hisar\, Hisar Haryana  
SEQUENCE:1
END:VEVENT
END:VCALENDAR
