BEGIN:VCALENDAR
PRODID;X-RICAL-TZSOURCE=TZINFO:-//Calagator//EN
CALSCALE:GREGORIAN
X-WR-CALNAME:Adapt2Play
METHOD:PUBLISH
VERSION:2.0
BEGIN:VEVENT
CREATED;VALUE=DATE-TIME:20260415T000228Z
DTEND;VALUE=DATE-TIME:20260812T010000Z
DTSTART;VALUE=DATE-TIME:20260812T000000Z
DTSTAMP;VALUE=DATE-TIME:20260415T000228Z
LAST-MODIFIED;VALUE=DATE-TIME:20260415T000228Z
UID:https://adapt2play.org/events/23042-dublinxc-summer-camp-for-bkl-juni
 or-skiers
DESCRIPTION:[&quot\;*Please Note* BKL and High School will be the same le
 ngth.\\nBKL – Grades 6\,7\, 8th \\nJoin us for a training camp that cove
 rs all aspects of dryland training for nordic skiing and will prepare yo
 u to be the best skier you can be next winter. Our camp has developed a 
 reputation for its perfect balance of hard work and fun! \\nDublin is th
 e optimal setting for our nordic ski camp. Our quiet\, paved roads provi
 de great opportunities for rollerskiing\, the Nordic Center has miles of
  single track for running and mountain biking\, and the pristine Dublin 
 Lake offers a great way to cool off after every workout. We’ll reside on
  the Dublin School campus where we will take advantage of the dining hal
 l’s tasty meals\, a fully equipped weight room\, and an alpine ski slope
  for the camp’s famous hill bounding workouts. Mount Monadnock is a quic
 k jog from campus and provides an optimal venue for our distance hike at
  the conclusion of camp. \\nAthletes will work in small groups with some
  of New England’s top coaches\, including Tracey Cote\, Head Coach\, Col
 by College&quot\;\, &quot\; Kathy Maddock\, Head Coach Dublin XC and Coa
 ch US World University Games 2023&quot\;\, &quot\; and Kevin Lee\, Head 
 Coach Kearsarge High School and NH Nordic Ski Coach of the Year 2018 and
  2020. \\nHigh school skiers should be comfortable on both classic and s
 kate rollerskis\, and should be able to ski three kilometers without a b
 reak. BKL skiers will be rollerskiing but do not need prior experience. 
 \\nAs of now we don’t have the additional add-on for roller ski race lik
 e last year\, but that could change. We’ll let you know. \\nDetails &amp
 \; Registration&quot\;]\n\nImported from: https://adapt2play.org/events/
 23042-dublinxc-summer-camp-for-bkl-junior-skiers
URL:https://nensa.net/event/dublinxc-summer-camp-for-bkl-junior-skiers/
SUMMARY:DublinXC Summer Camp for BKL & Junior Skiers
LOCATION:Location:: 18 Lehmann Way\, Dublin New Hampshire 03444 
SEQUENCE:1
END:VEVENT
END:VCALENDAR
