BEGIN:VCALENDAR
PRODID;X-RICAL-TZSOURCE=TZINFO:-//Calagator//EN
CALSCALE:GREGORIAN
X-WR-CALNAME:Adapt2Play
METHOD:PUBLISH
VERSION:2.0
BEGIN:VEVENT
CREATED;VALUE=DATE-TIME:20260415T000228Z
DTEND;VALUE=DATE-TIME:20260728T010000Z
DTSTART;VALUE=DATE-TIME:20260728T000000Z
DTSTAMP;VALUE=DATE-TIME:20260415T000228Z
LAST-MODIFIED;VALUE=DATE-TIME:20260419T000230Z
UID:https://adapt2play.org/events/23041-gmvs-xc-summer-training-camp
DESCRIPTION:GREAT CROSS COUNTRY SKIERS ARE MADE IN THE SUMMER \nBuild tra
 ining volume on foot and rollerskis while experiencing all that Green Mo
 untain Valley School and the Mad River Valley have to offer – from mount
 ains and trails\, to rivers and roads! Enhance your power\, strength\, a
 nd agility in our world-class Racing Performance Center\, guided by some
  of the top coaches in the country. This year\, we’re thrilled to welcom
 e back athletes and coaches from our sister school in Mals\, Italy\, add
 ing an international dimension to the camp experience. \nCamp is guarant
 eed to be action packed\, rigorous and fun! \nSpots are limited – regist
 er early! \nDates: July 28 – August 2\, 2026 \nAges: U14 to U20\, Beginn
 er to Advanced \nCost: $725 – Includes meals\, boarding on GMVS campus\,
  coaching and camp shirt \n2026 Camp Registration : Click HERE \nFor mor
 e information or to be placed on a waitlist\, please contact GMVS Nordic
  Program Director\, Brandon Herhusky\n\nImported from: https://adapt2pla
 y.org/events/23041-gmvs-xc-summer-training-camp
URL:https://nensa.net/event/gmvsxc-summer-training-camp/
SUMMARY:GMVS XC Summer Training Camp
LOCATION:Location:: New Hampshire\,  New Hampshire  
SEQUENCE:4
END:VEVENT
END:VCALENDAR
