BEGIN:VCALENDAR
PRODID;X-RICAL-TZSOURCE=TZINFO:-//Calagator//EN
CALSCALE:GREGORIAN
X-WR-CALNAME:Adapt2Play
METHOD:PUBLISH
VERSION:2.0
BEGIN:VEVENT
CREATED;VALUE=DATE-TIME:20260415T000228Z
DTEND;VALUE=DATE-TIME:20260705T010000Z
DTSTART;VALUE=DATE-TIME:20260705T000000Z
DTSTAMP;VALUE=DATE-TIME:20260415T000228Z
LAST-MODIFIED;VALUE=DATE-TIME:20260419T000230Z
UID:https://adapt2play.org/events/23040-nensa-regional-development-group-
 rdg-camp-at-craftsbury-outdoor-center-2026
DESCRIPTION:2026 RDG: Sunday\, July 5th-Tuesday\, July 7th at Craftsbury 
 Outdoor Center \nRegional Development Group Camp (RDG) is a NENSA-run pr
 ogram which introduces promising skiers to a regional network of peers a
 nd coaches through a structured training environment. Regional Developme
 nt Camp is designed to be a regional training camp opportunity for skier
 s engaging in multiple different developmental pathways\, with a base of
  skiers drawn from top performers at NENSA Eastern High School Champions
 hips\, NENSA Eastern U16 Championships\, and USSS Junior Nationals. \nRD
 G is designed to cater to skiers from Ages 14-17 in their USSS Age Group
 \, U16s and U18s. Eligible skiers are listed here and will notified with
  camp details in April. \nQuestions about 2026 NENSA RDG Camp can be dir
 ected to Ben Theyerl\, ben@nensa.net.\n\nImported from: https://adapt2pl
 ay.org/events/23040-nensa-regional-development-group-rdg-camp-at-craftsb
 ury-outdoor-center-2026
URL:https://nensa.net/event/nensa-regional-development-group-rdg-camp-at-
 craftsbury-outdoor-center-2026/
SUMMARY:NENSA Regional Development Group (RDG) Camp at Craftsbury Outdoor
  Center 2026
LOCATION:Location:: New Hampshire\,  New Hampshire  
SEQUENCE:4
END:VEVENT
END:VCALENDAR
