BEGIN:VCALENDAR
PRODID;X-RICAL-TZSOURCE=TZINFO:-//Calagator//EN
CALSCALE:GREGORIAN
X-WR-CALNAME:Adapt2Play
METHOD:PUBLISH
VERSION:2.0
BEGIN:VEVENT
CREATED;VALUE=DATE-TIME:20260415T000228Z
DTEND;VALUE=DATE-TIME:20260627T010000Z
DTSTART;VALUE=DATE-TIME:20260627T000000Z
DTSTAMP;VALUE=DATE-TIME:20260415T000228Z
LAST-MODIFIED;VALUE=DATE-TIME:20260419T000230Z
UID:https://adapt2play.org/events/23039-nensa-eastern-regional-elite-grou
 p-reg-camp-at-gmvs-2026
DESCRIPTION:The Regional Elite Group (REG) Program is a US Ski and Snowbo
 ard (USSS) and National Nordic Foundation (NNF) sponsored program which 
 introduces promising skiers to a regional network of peer skiers and coa
 ches via a structured training environment modeled after US Ski Team Tra
 ining Camps. Eastern REG organized and administered by NENSA for the USS
 S Eastern Region\, including Mid-Atlantic and New England skiers. \nMemb
 ers of the REG are invited to REG Camp during summer each year. REG Camp
  serves 3 overlapping purposes. 1) Provide a fun\, structured training b
 lock for peer athletes from across the East\, 2) Facilitate regional col
 laboration between skiers and coaches on training and technique\, and 3)
  Introduce developing Eastern skiers to USSS national coaches. \n2025 RE
 G will be held at Green Mountain Valley School\, taking advantage of the
  prime training grounds available in Northern Vermont. \nNominations hav
 e been sent out to eligible skiers and should be can be viewed here. \nQ
 uestions on 2026 REG can be directed to Ben Theyerl\, ben@nensa.net.\n\n
 Imported from: https://adapt2play.org/events/23039-nensa-eastern-regiona
 l-elite-group-reg-camp-at-gmvs-2026
URL:https://nensa.net/event/2026-eastern-regional-elite-group-reg-camp-gm
 vs/
SUMMARY:NENSA Eastern Regional Elite Group (REG) Camp at GMVS 2026
LOCATION:Location:: New Hampshire\,  New Hampshire  
SEQUENCE:4
END:VEVENT
END:VCALENDAR
