BEGIN:VCALENDAR
PRODID;X-RICAL-TZSOURCE=TZINFO:-//Calagator//EN
CALSCALE:GREGORIAN
X-WR-CALNAME:Adapt2Play
METHOD:PUBLISH
VERSION:2.0
BEGIN:VEVENT
CREATED;VALUE=DATE-TIME:20260415T000201Z
DTEND;VALUE=DATE-TIME:20260416T150000Z
DTSTART;VALUE=DATE-TIME:20260416T140000Z
DTSTAMP;VALUE=DATE-TIME:20260415T000201Z
LAST-MODIFIED;VALUE=DATE-TIME:20260415T000201Z
UID:https://adapt2play.org/events/23034-ella-simmons-thursday-sailing-vet
 erans-and-first-responders
DESCRIPTION:April 16\, 2026 10:00am EDT\nCalendar: Veterans and First Res
 ponders\nName: Ella Simmons\nPhone: (229) 221-3778\nEmail: ellasimmns@gm
 ail.com\n\nLocation\n============\nTeam Paradise Sailing\, 2476 S. Baysh
 ore Dr. Miami\, FL 33133\n\n\nTerms &amp\; Conditions for Veterans and F
 irst Responders \n============\nHow did you find us: \n\nI have read and
  agree to the terms above: \n\nAre you a Diasbled Veteran?: \n\nAre you 
 a Veteran: \n\nAre you a First Responder?: \n\n\nChange Appointment:\nht
 tps://teamparadise.squarespace.com/config/scheduling/appointments/view/1
 687938224\n\n\nPlease use Acuity Scheduling to cancel or reschedule this
  appointment.\n(created by Acuity Scheduling)\nAcuityID=1687938224\n\n\n
 Imported from: https://adapt2play.org/events/23034-ella-simmons-thursday
 -sailing-veterans-and-first-responders
SUMMARY:Ella Simmons: Thursday Sailing (Veterans and First Responders)
LOCATION:Location:: 2476 South Bayshore Drive\, Miami Florida 33133 
SEQUENCE:1
END:VEVENT
END:VCALENDAR
