BEGIN:VCALENDAR
PRODID;X-RICAL-TZSOURCE=TZINFO:-//Calagator//EN
CALSCALE:GREGORIAN
X-WR-CALNAME:Adapt2Play
METHOD:PUBLISH
VERSION:2.0
BEGIN:VEVENT
CREATED;VALUE=DATE-TIME:20260414T000313Z
DTEND;VALUE=DATE-TIME:20260425T140000Z
DTSTART;VALUE=DATE-TIME:20260425T130000Z
DTSTAMP;VALUE=DATE-TIME:20260414T000313Z
LAST-MODIFIED;VALUE=DATE-TIME:20260415T000306Z
UID:https://adapt2play.org/events/22987-adaptive-soccer-showcase
DESCRIPTION:Adaptive Soccer Showcase\n\n\n\n\n\n\n\nBlazeSports is excite
 d to relaunch our Adaptive Soccer Program with an all-out Adaptive Socce
 r Showcase\, bringing athletes of all ages with disabilities\, families\
 , and the community together to experience adaptive soccer in action. Th
 is free event will connect players\, partners\, and the excitement of th
 e game while celebrating the power of inclusive sports. \nThe Showcase w
 ill feature interactive stations for divisions including Cerebral Palsy 
 (CP) Soccer\, Amputee Soccer\, Power Soccer\, and Blind Soccer\, giving 
 attendees hands-on opportunities to try the sport\, learn adaptive techn
 iques\, and engage with athletes across all divisions. \nCome out to exp
 erience the thrill of adaptive soccer anytime between 1 PM and 4 PM and 
 be part of the excitement! \nRegister Here \n________________ \nDate: Sa
 turday\, April 25th\nTime: 1 PM – 4 PM (come anytime)\nLocation: 421 Dek
 alb Industrial Way\, Decatur\, GA \n\n\n\nPlease visit our website at ht
 tps://blazesports.org/ For questions\, please email dchuri@blazesports.o
 rg\n\nImported from: https://adapt2play.org/events/22987-adaptive-soccer
 -showcase
URL:https://blazesports.org/event/adaptive-soccer-showcase/
SUMMARY:Adaptive Soccer Showcase
LOCATION:Location:: 421 Dekalb Industrial Way\, Decatur Georgia 30030 
SEQUENCE:2
END:VEVENT
END:VCALENDAR
