BEGIN:VCALENDAR
PRODID;X-RICAL-TZSOURCE=TZINFO:-//Calagator//EN
CALSCALE:GREGORIAN
X-WR-CALNAME:Adapt2Play
METHOD:PUBLISH
VERSION:2.0
BEGIN:VEVENT
CREATED;VALUE=DATE-TIME:20260413T000341Z
DTEND;VALUE=DATE-TIME:20260521T150000Z
DTSTART;VALUE=DATE-TIME:20260521T140000Z
DTSTAMP;VALUE=DATE-TIME:20260413T000341Z
LAST-MODIFIED;VALUE=DATE-TIME:20260414T000334Z
UID:https://adapt2play.org/events/22973-water-aerobics
DESCRIPTION:Join Shifting Gears United for AQUAFIN Adaptive Water Aerobic
 s! \nHeld on Tuesdays and Thursdays at the North Palm Beach Country Club
 \, this energetic water fun class is open to all! \nSponsored by LEEDS F
 oundation. Chair lift available. \nContact Jacqui for details. 561-831-8
 887 \nRegister Here \n\n\n			\n		\n	\n		\n\n\n\n        \n            \n
         \n        \n            \n                Multi-Sports Registrat
 ion Form\n            \n            \n                \n                
                         \n                    \n                    \n  
                       \n                            Personal Information
 \n                            \n                        \n              
       \n\n                    \n                        \n              
               First Name *\n                            \n              
           \n                        \n                            Last N
 ame *\n                            \n                        \n         
            \n\n                    \n                        \n         
                    Address *\n                            \n            
             \n                    \n\n                    \n            
             \n                            City *\n                      
       \n                        \n                        \n            
                 State *\n                            \n                 
                Select State\n                                           
                                                          Alabama\n      
                                                               Alaska\n  
                                                                   Arizon
 a\n                                                                    A
 rkansas\n                                                               
      California\n                                                       
              Colorado\n                                                 
                    Connecticut\n                                        
                             Delaware\n                                  
                                   Florida\n                             
                                        Georgia\n                        
                                             Hawaii\n                    
                                                 Idaho\n                 
                                                    Illinois\n           
                                                          Indiana\n      
                                                               Iowa\n    
                                                                 Kansas\n
                                                                     Kent
 ucky\n                                                                  
   Louisiana\n                                                           
          Maine\n                                                        
             Maryland\n                                                  
                   Massachusetts\n                                       
                              Michigan\n                                 
                                    Minnesota\n                          
                                           Mississippi\n                 
                                                    Missouri\n           
                                                          Montana\n      
                                                               Nebraska\n
                                                                     Neva
 da\n                                                                    
 New Hampshire\n                                                         
            New Jersey\n                                                 
                    New Mexico\n                                         
                            New York\n                                   
                                  North Carolina\n                       
                                              North Dakota\n             
                                                        Ohio\n           
                                                          Oklahoma\n     
                                                                Oregon\n 
                                                                    Penns
 ylvania\n                                                               
      Rhode Island\n                                                     
                South Carolina\n                                         
                            South Dakota\n                               
                                      Tennessee\n                        
                                             Texas\n                     
                                                Utah\n                   
                                                  Vermont\n              
                                                       Virginia\n        
                                                             Washington\n
                                                                     West
  Virginia\n                                                             
        Wisconsin\n                                                      
               Wyoming\n                                                 
            \n                        \n                        \n       
                      ZIP Code *\n                            \n         
                \n                    \n\n                    \n         
                \n                            Phone Number *\n           
                  \n                        \n                        \n 
                            Date of Birth *\n                            
 \n                        \n                    \n\n                    
 \n                    \n                        \n                      
       Demographics\n                            \n                      
   \n                    \n\n                    \n                      
   \n                            \n                                Gender
  *\n                                \n                                  
   \n                                    Male\n                          
       \n                                \n                              
       \n                                    Female\n                    
             \n                                \n                        
             \n                                    LGBTQ+\n              
                   \n                            \n                      
   \n                        \n                            Race/Ethnicity
 \n                            \n                                Select (
 Optional)\n                                                             
                                        White\n                          
                                           Black or African American\n   
                                                                  Hispani
 c or Latino\n                                                           
          Asian\n                                                        
             American Indian or Alaska Native\n                          
                                           Native Hawaiian or Other Pacif
 ic Islander\n                                                           
          Two or More Races\n                                            
                         Other\n                                         
                    \n                        \n                    \n\n 
                    \n                    \n                        \n   
                          Disability Information\n                       
      \n                        \n                    \n\n               
      \n                        \n                            \n         
                        Do you have a disability? *\n                    
             \n                                    \n                    
                 Yes\n                                \n                 
                \n                                    \n                 
                    No\n                                \n               
              \n                        \n                    \n\n       
              \n                        \n                            \n 
                                Date of Disability\n                     
            \n                            \n                            \
 n                                \n                                    I
 s disability service related?\n                                    \n   
                                      \n                                 
        Yes\n                                    \n                      
               \n                                        \n              
                           No\n                                    \n    
                             \n                            \n            
             \n\n                        \n                            \n
                                 Disability Details\n                    
             \n                            \n                        \n\n
                         \n                            \n                
                 Place of Injury\n                                \n     
                        \n                        \n                    \
 n\n                    \n                    \n                        \
 n                            Military Information\n                     
        \n                        \n                    \n\n             
        \n                        \n                            \n       
                          Are you a military veteran?\n                  
               \n                                    \n                  
                   Yes\n                                \n               
                  \n                                    \n               
                      No\n                                \n             
                \n                        \n                    \n\n     
                \n                        \n                            \
 n                                Branch of Service\n                    
             \n                                    Select Branch\n       
                                                                      Arm
 y\n                                                                     
        Navy\n                                                           
                  Air Force\n                                            
                                 Marines\n                               
                                              Coast Guard\n              
                                                               Space Forc
 e\n                                                                     
        Other\n                                                          
           \n                            \n                            \n
                                 \n                                    Se
 rvice Period\n                                    \n                    
                     \n                                        Pre 2001\n
                                     \n                                  
   \n                                        \n                          
               Post 2001\n                                    \n         
                        \n                            \n                 
        \n                    \n\n                    \n                 
    \n                        \n                            Assistance an
 d Mobility\n                            \n                        \n    
                 \n\n                    \n                        \n    
                         \n                                \n            
                     Require a guide\n                            \n     
                    \n                    \n\n                    \n     
                    \n                            \n                     
            Type of assistance needed\n                                \n
                             \n                        \n                
     \n\n                    \n                        \n                
             Mobility aids used:\n                            \n         
                                                                         
                    \n                                        \n         
                                    \n                                   
          Push Rim\n                                        \n           
                          \n                                             
                        \n                                        \n     
                                        \n                               
              HC\n                                        \n             
                        \n                                               
                      \n                                        \n       
                                      \n                                 
            WC\n                                        \n               
                      \n                                                 
                    \n                                        \n         
                                    \n                                   
          AMB\n                                        \n                
                     \n                                                  
                   \n                                        \n          
                                   \n                                    
         AMB-Other\n                                        \n           
                          \n                                             
                        \n                                        \n     
                                        \n                               
              Cane\n                                        \n           
                          \n                                             
                        \n                                        \n     
                                        \n                               
              Crutches\n                                        \n       
                              \n                                         
                            \n                                        \n 
                                            \n                           
                  Prosthetics\n                                        \n
                                     \n                                  
                                   \n                                    
     \n                                            \n                    
                         Other\n                                        \
 n                                    \n                                 
                            \n                        \n                 
    \n\n                    \n                    \n                     
    \n                            T-Shirt Information\n                  
           \n                        \n                    \n\n          
           \n                        \n                            T-Shir
 t Size *\n                            \n                                
 Select Size\n                                                           
                                          XS\n                           
                                          S\n                            
                                         M\n                             
                                        L\n                              
                                       XL\n                              
                                       XXL\n                             
                                        XXXL\n                           
                                  \n                        \n           
              \n                            T-Shirt Style\n              
               \n                                Select Style (Optional)\
 n                                Men's\n                                
 Women's\n                                Unisex\n                       
      \n                        \n                    \n\n               
      \n                    \n                        \n                 
            Emergency Contact\n                            \n            
             \n                    \n\n                    \n            
             \n                            Emergency Contact Name *\n    
                         \n                        \n                    
     \n                            Emergency Contact Phone *\n           
                  \n                        \n                    \n\n   
                  \n                    \n                        \n     
                        Waiver and Legal Agreement\n                     
        \n                        \n                    \n\n             
                                \n                                       
                      \n                                    \n           
                              Waiver and Release of Liability\n          
                               I know that participating in Shifting Gear
 s United athletic events is potentially hazardous. I agree not to enter 
 any Shifting Gears United race\, activity\, or sponsored event unless I 
 am medically able and properly trained. I agree to abide by any decision
  of a race official relative to my ability to safely complete the activi
 ty. I assume all risks associated with participating\, including\, but n
 ot limited to: falls\, contact with vehicles\, other participants\, spec
 tators\, or others\, the effect of the weather\, including high heat\, e
 xtreme cold and/ or humidity\, traffic conditions of the road\, all such
  risks being known and appreciated by me.\n\nHaving read this Waiver and
  knowing these facts\, and in consideration of your accepting my applica
 tion\, I\, for myself or for my child and anyone else entitled to act on
  my behalf\, waive and release\, and agree to indemnify and hold harmles
 s Shifting Gears United to which I belong (including directors\, officer
 s\, leaders\, members\, athletes\, volunteers\, guides)\, the local coun
 ty and city departments of Parks and Recreation\, all sponsors of Shifti
 ng Gears United and any of their races or events\, members and volunteer
 s\, from present and future claims and liabilities of any kind\, known o
 r unknown\, arising out of my participation in any Shifting Gears United
  event or related activities\, even though that liability may arise out 
 of ordinary negligence or fault on the part of the persons named in this
  Waiver. By registering for a Shifting Gears United or any other race th
 ough Shifting Gears United\, I hereby grant my permission to Shifting Ge
 ars United to act as proxy on my behalf for that race with full authoriz
 ation to execute consents\, waivers and releases included in the Shiftin
 g Gears United registration. I further grant my permission to all the fo
 regoing to use photographs\, motion pictures\, recordings\, or any other
  record\nof my participation in Shifting Gears United for any legitimate
  purpose\, without remuneration. I have read this waiver and agree to th
 e terms. \n                                                             
                        \n                                               
  \n                                                    Initial Here *\n 
                                                    \n                   
                              \n                                         
    \n                                                                   
          \n                                \n                           
                                  \n                                    \
 n                                        Safe Sport Acknowledgement\n   
                                      I understand that (1) participation
  with Shifting Gear s United is strictly voluntary\, and (2) I a monthly
  to receive/provide running companionship\, advice\, and encouragement f
 rom my fellow Shifting Gears United athletes/volunteers/guides. If anyth
 ing\, else is asked of me\, or if I am otherwise uncomfortable or concer
 ned\, I will bring it to the immediate attention of the Shifting Gears U
 nited President. \n                                                     
                                \n                                       
          \n                                                    Initial H
 ere *\n                                                    \n           
                                      \n                                 
            \n                                                           
                  \n                                \n                   
                                  \n                    \n               
      \n                    \n                        \n                 
            Printed Name *\n                            \n               
          \n                        \n                            Digital
  Signature (Type your full name) *\n                            \n      
                       By typing your name here\, you acknowledge that th
 is serves as your electronic signature.\n                        \n     
                \n\n                    \n                    \n         
                \n                            \n                         
        Parent/Guardian Information (Required for participants under 18)\
 n                                \n                            \n       
                  \n\n                        \n                         
    \n                                Parent/Guardian Name\n             
                    \n                            \n                     
        \n                                Parent/Guardian Digital Signatu
 re\n                                \n                            \n    
                     \n                    \n\n                    \n    
                 \n                        \n                            
 Witness Information (Optional)\n                            \n          
               \n                    \n\n                    \n          
               \n                            Witness Name\n              
               \n                        \n                        \n    
                         Witness Digital Signature\n                     
        \n                        \n                    \n\n             
        \n                        \n                            Submit Re
 gistration\n                        \n                    \n            
     \n            \n        \n    \n\n\n\n    \n        \n            \n
                 Registration Status\n                \n            \n   
          \n                \n            \n            \n               
  Close\n                New Registration\n\nImported from: https://adapt
 2play.org/events/22973-water-aerobics
URL:https://shiftinggearsunited.org/event/water-aerobics-2-2-2/2026-05-21
 /
SUMMARY:Water Aerobics
LOCATION:Location:: 951 US Route 1\, North Palm Beach Florida 33408 
SEQUENCE:2
END:VEVENT
END:VCALENDAR
