BEGIN:VCALENDAR
PRODID;X-RICAL-TZSOURCE=TZINFO:-//Calagator//EN
CALSCALE:GREGORIAN
X-WR-CALNAME:Adapt2Play
METHOD:PUBLISH
VERSION:2.0
BEGIN:VEVENT
CREATED;VALUE=DATE-TIME:20260413T000331Z
DTEND;VALUE=DATE-TIME:20260428T080000Z
DTSTART;VALUE=DATE-TIME:20260428T070000Z
DTSTAMP;VALUE=DATE-TIME:20260413T000331Z
LAST-MODIFIED;VALUE=DATE-TIME:20260413T000331Z
UID:https://adapt2play.org/events/22971-recreational-team
DESCRIPTION:\n\nImported from: https://adapt2play.org/events/22971-recrea
 tional-team
URL:https://rowrio.org/event/recreational-team/2026-04-28/
SUMMARY:Recreational Team
LOCATION:Location:: 730 North Mill Avenue\, Tempe Arizona 85288 
SEQUENCE:1
END:VEVENT
END:VCALENDAR
