BEGIN:VCALENDAR
PRODID;X-RICAL-TZSOURCE=TZINFO:-//Calagator//EN
CALSCALE:GREGORIAN
X-WR-CALNAME:Adapt2Play
METHOD:PUBLISH
VERSION:2.0
BEGIN:VEVENT
CREATED;VALUE=DATE-TIME:20260413T000303Z
DTEND;VALUE=DATE-TIME:20260510T160000Z
DTSTART;VALUE=DATE-TIME:20260510T150000Z
DTSTAMP;VALUE=DATE-TIME:20260413T000303Z
LAST-MODIFIED;VALUE=DATE-TIME:20260414T000257Z
UID:https://adapt2play.org/events/22969-teen-adult-wheelchair-para-tennis
 -clinic-south-coast-wheelchair-tennis-foundation-hanover
DESCRIPTION:\n\nImported from: https://adapt2play.org/events/22969-teen-a
 dult-wheelchair-para-tennis-clinic-south-coast-wheelchair-tennis-foundat
 ion-hanover
URL:https://adaptivesportsne.org/event/teen-adult-wheelchair-para-tennis-
 clinic-southcoast-wheelchair-tennis-foundation-hanover/2026-05-10/
SUMMARY:Teen/Adult Wheelchair/Para Tennis Clinic- South Coast Wheelchair 
 Tennis Foundation (Hanover)
LOCATION:Location:: 75 Mill Street\, Hanover Massachusetts 02339 
SEQUENCE:2
END:VEVENT
END:VCALENDAR
