BEGIN:VCALENDAR
PRODID;X-RICAL-TZSOURCE=TZINFO:-//Calagator//EN
CALSCALE:GREGORIAN
X-WR-CALNAME:Adapt2Play
METHOD:PUBLISH
VERSION:2.0
BEGIN:VEVENT
CREATED;VALUE=DATE-TIME:20260413T000303Z
DTEND;VALUE=DATE-TIME:20260510T153000Z
DTSTART;VALUE=DATE-TIME:20260510T143000Z
DTSTAMP;VALUE=DATE-TIME:20260413T000303Z
LAST-MODIFIED;VALUE=DATE-TIME:20260414T000257Z
UID:https://adapt2play.org/events/22968-swim-team-asne-boston
DESCRIPTION:Each swimmer receives a personalized training program tailore
 d\nto enhance both technical skills and mental performance .\n\n\n\n\nDe
 signed for intermediate and advanced swimmers\, this weekly program at S
 immons University focuses on refining stroke technique and boosting over
 all fitness. \nFor ages 8+. Interest form now open!\n\nImported from: ht
 tps://adapt2play.org/events/22968-swim-team-asne-boston
URL:https://adaptivesportsne.org/event/swim-team-asne-boston-4-2/2026-05-
 10/
SUMMARY:Swim Team - ASNE (Boston)
LOCATION:Location:: 94 Pilgrim Road\, Boston Massachusetts 02215 
SEQUENCE:2
END:VEVENT
END:VCALENDAR
