BEGIN:VCALENDAR
PRODID;X-RICAL-TZSOURCE=TZINFO:-//Calagator//EN
CALSCALE:GREGORIAN
X-WR-CALNAME:Adapt2Play
METHOD:PUBLISH
VERSION:2.0
BEGIN:VEVENT
CREATED;VALUE=DATE-TIME:20260413T000124Z
DTEND;VALUE=DATE-TIME:20260509T140000Z
DTSTART;VALUE=DATE-TIME:20260509T130000Z
DTSTAMP;VALUE=DATE-TIME:20260413T000124Z
LAST-MODIFIED;VALUE=DATE-TIME:20260419T000118Z
UID:https://adapt2play.org/events/22957-wheelchair-track-asne-west-roxbur
 y
DESCRIPTION:\n\nImported from: https://adapt2play.org/events/22957-wheelc
 hair-track-asne-west-roxbury
URL:https://adaptivesportsne.org/event/wheelchair-track-west-roxbury/2026
 -05-09/
SUMMARY:Wheelchair Track- ASNE (West Roxbury)
LOCATION:Location:: 235 Baker Street\, Boston Massachusetts 02132 
SEQUENCE:5
END:VEVENT
END:VCALENDAR
