BEGIN:VCALENDAR
PRODID;X-RICAL-TZSOURCE=TZINFO:-//Calagator//EN
CALSCALE:GREGORIAN
X-WR-CALNAME:Adapt2Play
METHOD:PUBLISH
VERSION:2.0
BEGIN:VEVENT
CREATED;VALUE=DATE-TIME:20260412T000317Z
DTEND;VALUE=DATE-TIME:20260428T060000Z
DTSTART;VALUE=DATE-TIME:20260428T050000Z
DTSTAMP;VALUE=DATE-TIME:20260412T000317Z
LAST-MODIFIED;VALUE=DATE-TIME:20260413T000331Z
UID:https://adapt2play.org/events/22955-competitive-team
DESCRIPTION:\n\nImported from: https://adapt2play.org/events/22955-compet
 itive-team
URL:https://rowrio.org/event/competitive-team/2026-04-28/
SUMMARY:Competitive Team
LOCATION:Location:: 730 North Mill Avenue\, Tempe Arizona 85288 
SEQUENCE:2
END:VEVENT
END:VCALENDAR
