BEGIN:VCALENDAR
PRODID;X-RICAL-TZSOURCE=TZINFO:-//Calagator//EN
CALSCALE:GREGORIAN
X-WR-CALNAME:Adapt2Play
METHOD:PUBLISH
VERSION:2.0
BEGIN:VEVENT
CREATED;VALUE=DATE-TIME:20260412T000025Z
DTEND;VALUE=DATE-TIME:20261010T190000Z
DTSTART;VALUE=DATE-TIME:20261010T180000Z
DTSTAMP;VALUE=DATE-TIME:20260412T000025Z
LAST-MODIFIED;VALUE=DATE-TIME:20260420T000023Z
UID:https://adapt2play.org/events/22933-2026-october-adaptive-swim-clinic
DESCRIPTION:\n\nImported from: https://adapt2play.org/events/22933-2026-o
 ctober-adaptive-swim-clinic
URL:https://www.accessurf.org/event/2026-october-adaptive-swim-clinic/
SUMMARY:2026 October Adaptive Swim Clinic
LOCATION:Location:: Hawaii\,  Hawaii  
SEQUENCE:5
END:VEVENT
END:VCALENDAR
