BEGIN:VCALENDAR
PRODID;X-RICAL-TZSOURCE=TZINFO:-//Calagator//EN
CALSCALE:GREGORIAN
X-WR-CALNAME:Adapt2Play
METHOD:PUBLISH
VERSION:2.0
BEGIN:VEVENT
CREATED;VALUE=DATE-TIME:20260412T000025Z
DTEND;VALUE=DATE-TIME:20260920T040000Z
DTSTART;VALUE=DATE-TIME:20260920T030000Z
DTSTAMP;VALUE=DATE-TIME:20260412T000025Z
LAST-MODIFIED;VALUE=DATE-TIME:20260420T000022Z
UID:https://adapt2play.org/events/22930-sunset-at-sunhala
DESCRIPTION:\n\nImported from: https://adapt2play.org/events/22930-sunset
 -at-sunhala
URL:https://www.accessurf.org/event/sunset-at-sunhala-2/
SUMMARY:Sunset at Sunhala
LOCATION:Location:: Hawaii\,  Hawaii  
SEQUENCE:5
END:VEVENT
END:VCALENDAR
