BEGIN:VCALENDAR
PRODID;X-RICAL-TZSOURCE=TZINFO:-//Calagator//EN
CALSCALE:GREGORIAN
X-WR-CALNAME:Adapt2Play
METHOD:PUBLISH
VERSION:2.0
BEGIN:VEVENT
CREATED;VALUE=DATE-TIME:20260412T000025Z
DTEND;VALUE=DATE-TIME:20260905T183000Z
DTSTART;VALUE=DATE-TIME:20260905T173000Z
DTSTAMP;VALUE=DATE-TIME:20260412T000025Z
LAST-MODIFIED;VALUE=DATE-TIME:20260420T000022Z
UID:https://adapt2play.org/events/22929-2026-september-day-at-the-beach
DESCRIPTION:\n\nImported from: https://adapt2play.org/events/22929-2026-s
 eptember-day-at-the-beach
URL:https://www.accessurf.org/event/2026-september-day-at-the-beach/
SUMMARY:2026 September Day at the Beach
LOCATION:Location:: Hawaii\,  Hawaii  
SEQUENCE:5
END:VEVENT
END:VCALENDAR
