BEGIN:VCALENDAR
PRODID;X-RICAL-TZSOURCE=TZINFO:-//Calagator//EN
CALSCALE:GREGORIAN
X-WR-CALNAME:Adapt2Play
METHOD:PUBLISH
VERSION:2.0
BEGIN:VEVENT
CREATED;VALUE=DATE-TIME:20260412T000025Z
DTEND;VALUE=DATE-TIME:20260904T043000Z
DTSTART;VALUE=DATE-TIME:20260904T033000Z
DTSTAMP;VALUE=DATE-TIME:20260412T000025Z
LAST-MODIFIED;VALUE=DATE-TIME:20260420T000022Z
UID:https://adapt2play.org/events/22928-2026-september-new-volunteer-virt
 ual-training
DESCRIPTION:\n\nImported from: https://adapt2play.org/events/22928-2026-s
 eptember-new-volunteer-virtual-training
URL:https://www.accessurf.org/event/2026-september-new-volunteer-virtual-
 training/
SUMMARY:2026 September New Volunteer Virtual Training
LOCATION:Location:: Hawaii\,  Hawaii  
SEQUENCE:5
END:VEVENT
END:VCALENDAR
