BEGIN:VCALENDAR
PRODID;X-RICAL-TZSOURCE=TZINFO:-//Calagator//EN
CALSCALE:GREGORIAN
X-WR-CALNAME:Adapt2Play
METHOD:PUBLISH
VERSION:2.0
BEGIN:VEVENT
CREATED;VALUE=DATE-TIME:20260412T000024Z
DTEND;VALUE=DATE-TIME:20260801T183000Z
DTSTART;VALUE=DATE-TIME:20260801T173000Z
DTSTAMP;VALUE=DATE-TIME:20260412T000024Z
LAST-MODIFIED;VALUE=DATE-TIME:20260420T000022Z
UID:https://adapt2play.org/events/22926-2026-august-day-at-the-beach-kual
 oa-regional-park
DESCRIPTION:\n\nImported from: https://adapt2play.org/events/22926-2026-a
 ugust-day-at-the-beach-kualoa-regional-park
URL:https://www.accessurf.org/event/2026-august-day-at-the-beach-kualoa-r
 egional-park/
SUMMARY:2026 August Day at the Beach Kualoa Regional Park
LOCATION:Location:: Hawaii\,  Hawaii  
SEQUENCE:5
END:VEVENT
END:VCALENDAR
