BEGIN:VCALENDAR
PRODID;X-RICAL-TZSOURCE=TZINFO:-//Calagator//EN
CALSCALE:GREGORIAN
X-WR-CALNAME:Adapt2Play
METHOD:PUBLISH
VERSION:2.0
BEGIN:VEVENT
CREATED;VALUE=DATE-TIME:20260412T000024Z
DTEND;VALUE=DATE-TIME:20260606T183000Z
DTSTART;VALUE=DATE-TIME:20260606T173000Z
DTSTAMP;VALUE=DATE-TIME:20260412T000024Z
LAST-MODIFIED;VALUE=DATE-TIME:20260420T000022Z
UID:https://adapt2play.org/events/22921-2026-june-day-at-the-beach
DESCRIPTION:\n\nImported from: https://adapt2play.org/events/22921-2026-j
 une-day-at-the-beach
URL:https://www.accessurf.org/event/2026-june-day-at-the-beach/
SUMMARY:2026 June Day at the Beach
LOCATION:Location:: Hawaii\,  Hawaii  
SEQUENCE:5
END:VEVENT
END:VCALENDAR
