BEGIN:VCALENDAR
PRODID;X-RICAL-TZSOURCE=TZINFO:-//Calagator//EN
CALSCALE:GREGORIAN
X-WR-CALNAME:Adapt2Play
METHOD:PUBLISH
VERSION:2.0
BEGIN:VEVENT
CREATED;VALUE=DATE-TIME:20260412T000024Z
DTEND;VALUE=DATE-TIME:20260605T043000Z
DTSTART;VALUE=DATE-TIME:20260605T033000Z
DTSTAMP;VALUE=DATE-TIME:20260412T000024Z
LAST-MODIFIED;VALUE=DATE-TIME:20260420T000022Z
UID:https://adapt2play.org/events/22920-2026-june-new-volunteer-virtual-t
 raining
DESCRIPTION:\n\nImported from: https://adapt2play.org/events/22920-2026-j
 une-new-volunteer-virtual-training
URL:https://www.accessurf.org/event/2026-june-new-volunteer-virtual-train
 ing/
SUMMARY:2026 June New Volunteer Virtual Training
LOCATION:Location:: Hawaii\,  Hawaii  
SEQUENCE:5
END:VEVENT
END:VCALENDAR
