BEGIN:VCALENDAR
PRODID;X-RICAL-TZSOURCE=TZINFO:-//Calagator//EN
CALSCALE:GREGORIAN
X-WR-CALNAME:Adapt2Play
METHOD:PUBLISH
VERSION:2.0
BEGIN:VEVENT
CREATED;VALUE=DATE-TIME:20260412T000024Z
DTEND;VALUE=DATE-TIME:20260508T040000Z
DTSTART;VALUE=DATE-TIME:20260508T030000Z
DTSTAMP;VALUE=DATE-TIME:20260412T000024Z
LAST-MODIFIED;VALUE=DATE-TIME:20260412T000024Z
UID:https://adapt2play.org/events/22919-pool-deck-pau-hana
DESCRIPTION:Hosted by: Indy Club and Parley for the Oceans\n\nImported fr
 om: https://adapt2play.org/events/22919-pool-deck-pau-hana
URL:https://www.accessurf.org/event/pool-deck-pau-hana/
SUMMARY:Pool Deck Pau Hana
LOCATION:Location:: 2570 Kalākaua Avenue\, Honolulu Hawaii 96815 
SEQUENCE:1
END:VEVENT
END:VCALENDAR
