BEGIN:VCALENDAR
PRODID;X-RICAL-TZSOURCE=TZINFO:-//Calagator//EN
CALSCALE:GREGORIAN
X-WR-CALNAME:Adapt2Play
METHOD:PUBLISH
VERSION:2.0
BEGIN:VEVENT
CREATED;VALUE=DATE-TIME:20260412T000024Z
DTEND;VALUE=DATE-TIME:20260507T060000Z
DTSTART;VALUE=DATE-TIME:20260507T050000Z
DTSTAMP;VALUE=DATE-TIME:20260412T000024Z
LAST-MODIFIED;VALUE=DATE-TIME:20260412T000024Z
UID:https://adapt2play.org/events/22918-movie-night
DESCRIPTION:The Incredible Paulk\n\nImported from: https://adapt2play.org
 /events/22918-movie-night
URL:https://www.accessurf.org/event/movie-night/
SUMMARY:Movie Night
LOCATION:Location:: 2490 Kalākaua Avenue\, Honolulu Hawaii 96815 
SEQUENCE:1
END:VEVENT
END:VCALENDAR
