BEGIN:VCALENDAR
PRODID;X-RICAL-TZSOURCE=TZINFO:-//Calagator//EN
CALSCALE:GREGORIAN
X-WR-CALNAME:Adapt2Play
METHOD:PUBLISH
VERSION:2.0
BEGIN:VEVENT
CREATED;VALUE=DATE-TIME:20260411T000139Z
DTEND;VALUE=DATE-TIME:20260512T160000Z
DTSTART;VALUE=DATE-TIME:20260512T150000Z
DTSTAMP;VALUE=DATE-TIME:20260411T000139Z
LAST-MODIFIED;VALUE=DATE-TIME:20260411T000139Z
UID:https://adapt2play.org/events/22910-games-history-hour-atlanta-96
DESCRIPTION:Atlanta 1996 — The Centennial Games\n				\n				\n					\n		\n	
 				\n		\n				\n						\n					\n			\n						\n				\n									This next ses
 sion turns the spotlight on the Atlanta 1996 Centennial Games — a landma
 rk moment marking 100 years of the modern Olympic movement. From record-
 breaking performances to unforgettable cultural moments\, join us for a 
 conversation celebrating the legacy of one of the most iconic Games in h
 istory. Moderated by Lindsay Huban\, USOPM’s Chief Content &amp\; Integr
 ation Officer.\n\nImported from: https://adapt2play.org/events/22910-gam
 es-history-hour-atlanta-96
URL:https://usopm.org/event/games-history-hour-atlanta-96/
SUMMARY:Games History Hour: Atlanta '96
SEQUENCE:1
END:VEVENT
END:VCALENDAR
