BEGIN:VCALENDAR
PRODID;X-RICAL-TZSOURCE=TZINFO:-//Calagator//EN
CALSCALE:GREGORIAN
X-WR-CALNAME:Adapt2Play
METHOD:PUBLISH
VERSION:2.0
BEGIN:VEVENT
CREATED;VALUE=DATE-TIME:20260409T000408Z
DTEND;VALUE=DATE-TIME:20260925T143000Z
DTSTART;VALUE=DATE-TIME:20260925T133000Z
DTSTAMP;VALUE=DATE-TIME:20260409T000408Z
LAST-MODIFIED;VALUE=DATE-TIME:20260410T000341Z
UID:https://adapt2play.org/events/22849-senior-cycling
DESCRIPTION:REGISTER HEREDescription: FREE for all Seniors.  Join a small
  group of Seniors for Bike Rides in Westerville. Request a bike from ASC
  during registration or bring your own! Volunteers will be on-site to as
 sist with equipment and riding.  Arrival Time: 9:30 a.m.Event Time: 10 a
 .m. - NoonRegistration closes two days before the event\n\nImported from
 : https://adapt2play.org/events/22849-senior-cycling
SUMMARY:Senior Cycling
LOCATION:Location:: 325 North Cleveland Avenue\, Westerville Ohio 43082 
SEQUENCE:2
END:VEVENT
END:VCALENDAR
