BEGIN:VCALENDAR
PRODID;X-RICAL-TZSOURCE=TZINFO:-//Calagator//EN
CALSCALE:GREGORIAN
X-WR-CALNAME:Adapt2Play
METHOD:PUBLISH
VERSION:2.0
BEGIN:VEVENT
CREATED;VALUE=DATE-TIME:20260409T000329Z
DTEND;VALUE=DATE-TIME:20260423T120000Z
DTSTART;VALUE=DATE-TIME:20260423T110000Z
DTSTAMP;VALUE=DATE-TIME:20260409T000329Z
LAST-MODIFIED;VALUE=DATE-TIME:20260410T000311Z
UID:https://adapt2play.org/events/22841-casc-virtual-training-day-1
DESCRIPTION:CASC Virtual Training\n\n\n\nCASC Virtual Training – April 23
  &amp\; 24  | 11 AM – 2 PM \nLooking to take your coaching to the next l
 evel? Join BlazeSports Institute’s Adaptive Sport Coach Training and gai
 n the skills to work confidently with athletes with disabilities. In thi
 s virtual program\, you’ll explore disability awareness\, adaptive equip
 ment\, athlete safety\, injury prevention\, and effective coaching techn
 iques—taught by experts who lead successful adaptive sports programs. \n
 The Adaptive Sport Coaching Certification prepares coaches how to proper
 ly train and coach athletes with a variety of disabilities in various sp
 orts. This certification will provide you with a better understanding of
  disability knowledge and etiquette\, how to coach the adaptive athlete\
 , injury prevention\, basics of adaptive equipment\, abuse prevention fo
 r athletes\, and much more. \nRegister Here\n\nImported from: https://ad
 apt2play.org/events/22841-casc-virtual-training-day-1
URL:https://blazesports.org/event/certified-adaptive-coaches-virtual-trai
 ning/
SUMMARY:CASC Virtual Training (Day 1)
LOCATION:Location:: Gabon\,    
SEQUENCE:2
END:VEVENT
END:VCALENDAR
