BEGIN:VCALENDAR
PRODID;X-RICAL-TZSOURCE=TZINFO:-//Calagator//EN
CALSCALE:GREGORIAN
X-WR-CALNAME:Adapt2Play
METHOD:PUBLISH
VERSION:2.0
BEGIN:VEVENT
CREATED;VALUE=DATE-TIME:20260409T000329Z
DTEND;VALUE=DATE-TIME:20260422T193000Z
DTSTART;VALUE=DATE-TIME:20260422T183000Z
DTSTAMP;VALUE=DATE-TIME:20260409T000329Z
LAST-MODIFIED;VALUE=DATE-TIME:20260421T000304Z
UID:https://adapt2play.org/events/22840-adaptive-fitness
DESCRIPTION:BlazeSports’ CrossFit / Adaptive Fitness Training Program pro
 vides a fun and supportive group fitness experience tailored to veterans
  of all abilities. Participants train in a welcoming environment\, worki
 ng toward personal fitness goals while connecting with a motivated commu
 nity.\n\n\n\n\n\n\n\n\n\n\n\n\n\n\n\n\n\n\nThe program focuses on functi
 onal movements that build strength\, endurance\, flexibility\, and coord
 ination—skills essential for everyday life. Whether aiming for weight lo
 ss\, improved mobility\, or better performance\, participants engage in 
 safe\, effective workouts designed for their goals. Coaches adjust exerc
 ises to match individual abilities. This ensures a challenging yet achie
 vable experience. Athletes progress at their own pace\, building confide
 nce and seeing real results. The program is inclusive and focuses on mak
 ing fitness accessible to all. \n\n\n\n\n\n\n\n\n\nBeyond fitness\, the 
 program fosters camaraderie and mental resilience. Veterans support and 
 motivate each other. This creates a strong\, encouraging community. Part
 icipants form lasting friendships and a network of peers who share simil
 ar experiences. The supportive environment promotes mental toughness and
  determination. Whether new to adaptive training or experienced\, everyo
 ne benefits from staying active and strong. \nWe are now offering Vetera
 n Adaptive Fitness twice a week! \n\n\n\n\n\n\n\n\n\nWhen: Wednesdays 6:
 30 PM – 7:30 PM &amp\; Saturdays from 10:15 AM – 11:15 AMWhere: CrossFit
  Iconz📍 5345 Five Forks Trickum Rd\, Lilburn\, GA 30047 \nSign up today 
 for an energizing workout\, new friendships\, and a renewed sense of str
 ength and confidence.\n\nImported from: https://adapt2play.org/events/22
 840-adaptive-fitness
URL:https://blazesports.org/event/crossfit-2-2-2/2026-04-22/
SUMMARY:Adaptive Fitness
LOCATION:Location:: 5345 Five Forks Trickum Road\, Lilburn Georgia 30047 
SEQUENCE:4
END:VEVENT
END:VCALENDAR
