BEGIN:VCALENDAR
PRODID;X-RICAL-TZSOURCE=TZINFO:-//Calagator//EN
CALSCALE:GREGORIAN
X-WR-CALNAME:Adapt2Play
METHOD:PUBLISH
VERSION:2.0
BEGIN:VEVENT
CREATED;VALUE=DATE-TIME:20260409T000329Z
DTEND;VALUE=DATE-TIME:20260422T150000Z
DTSTART;VALUE=DATE-TIME:20260422T140000Z
DTSTAMP;VALUE=DATE-TIME:20260409T000329Z
LAST-MODIFIED;VALUE=DATE-TIME:20260410T000311Z
UID:https://adapt2play.org/events/22839-yoga
DESCRIPTION:The BlazeSports Veteran Yoga Program is designed to support v
 eterans in improving their physical and mental well-being through the pr
 actice of yoga.This program is tailored for veterans with physical disab
 ilities. Led by experienced instructors\, each class focuses on gentle m
 ovements\, breathing exercises\, and mindfulness techniques. These pract
 ices work together to improve flexibility\, strength\, and relaxation. I
 nstructors adapt traditional yoga poses to meet the needs of each partic
 ipant\, ensuring that everyone\, regardless of their ability level\, can
  benefit from the class. \nThe program goes beyond the physical benefits
  of yoga. It also emphasizes the importance of mental clarity\, stress r
 elief\, and overall wellness. Yoga can be a powerful tool for veterans\,
  offering a way to reconnect with themselves and build resilience. Each 
 session creates a sense of community\, where veterans can share their ex
 periences\, encourage each other\, and support one another throughout th
 eir wellness journey. The program fosters an inclusive\, positive atmosp
 here\, making it accessible to all veterans looking to improve their qua
 lity of life. \nWhether the goal is rehabilitation\, injury prevention\,
  or simply enhancing overall well-being\, the Veteran Yoga Program offer
 s valuable tools that help veterans feel empowered and supported. Partic
 ipants not only strengthen their bodies\, but they also deepen their min
 dfulness practice\, helping them lead more balanced\, healthier lives. T
 he program provides a peaceful space for veterans to focus on both their
  physical and emotional healing while being part of a supportive communi
 ty. \nProgram Information: \nWhen: Wednesdays \n2:00 PM – 3:00 PM \nWher
 e: Vista Yoga \nDecatur\, GA 30033 \nSuite D\, Building Number: 2836 Lav
 ista Road\n\nImported from: https://adapt2play.org/events/22839-yoga
URL:https://blazesports.org/event/veteran-yoga-2/2026-04-22/
SUMMARY:Yoga
LOCATION:Location:: 2836 Lavista Road\, Decatur Georgia 30033 
SEQUENCE:2
END:VEVENT
END:VCALENDAR
