BEGIN:VCALENDAR
PRODID;X-RICAL-TZSOURCE=TZINFO:-//Calagator//EN
CALSCALE:GREGORIAN
X-WR-CALNAME:Adapt2Play
METHOD:PUBLISH
VERSION:2.0
BEGIN:VEVENT
CREATED;VALUE=DATE-TIME:20260408T000342Z
DTEND;VALUE=DATE-TIME:20260423T060000Z
DTSTART;VALUE=DATE-TIME:20260423T050000Z
DTSTAMP;VALUE=DATE-TIME:20260408T000342Z
LAST-MODIFIED;VALUE=DATE-TIME:20260409T000349Z
UID:https://adapt2play.org/events/22795-competitive-team
DESCRIPTION:\n\nImported from: https://adapt2play.org/events/22795-compet
 itive-team
URL:https://rowrio.org/event/competitive-team/2026-04-23/
SUMMARY:Competitive Team
LOCATION:Location:: 730 North Mill Avenue\, Tempe Arizona 85288 
SEQUENCE:2
END:VEVENT
END:VCALENDAR
