BEGIN:VCALENDAR
PRODID;X-RICAL-TZSOURCE=TZINFO:-//Calagator//EN
CALSCALE:GREGORIAN
X-WR-CALNAME:Adapt2Play
METHOD:PUBLISH
VERSION:2.0
BEGIN:VEVENT
CREATED;VALUE=DATE-TIME:20260408T000331Z
DTEND;VALUE=DATE-TIME:20260522T140000Z
DTSTART;VALUE=DATE-TIME:20260522T130000Z
DTSTAMP;VALUE=DATE-TIME:20260408T000331Z
LAST-MODIFIED;VALUE=DATE-TIME:20260410T000314Z
UID:https://adapt2play.org/events/22794-washington-spring-games
DESCRIPTION:We’re excited to begin building a stronger\, more connected n
 etwork across Washington County—and we want YOU to be a part of it! We a
 re creating a comprehensive contact list to ensure that all programs in 
 the area stay informed and engaged with upcoming Washington Area events\
 , opportunities\, and important updates. From competitions and trainings
  to community gatherings and volunteer opportunities\, this list will he
 lp make sure no one misses out on the great things happening across our 
 region.\n\n\n\nBy joining this contact list\, your program will:\n• Rece
 ive timely updates on upcoming events and initiatives\n• Have opportunit
 ies to collaborate\, participate\, and grow together\n\n\n\nPlease compl
 ete the following link to join our new Washington County Special Olympic
 s contact list!\nClick here to join the list!\n\n\n\nWe are looking forw
 ard to strengthening communication and continuing to build an inclusive\
 , energized Washington County community. Thank you for all that you do—w
 e hope to connect with you soon!\n\nBest regards\,\nWashington County Sp
 ecial Olympics\n\nImported from: https://adapt2play.org/events/22794-was
 hington-spring-games
URL:https://www.somaine.org/event/washington-spring-games/
SUMMARY:Washington Spring Games
LOCATION:Location:: 66 Cutler Road\, East Machias Maine 04630 
SEQUENCE:3
END:VEVENT
END:VCALENDAR
