BEGIN:VCALENDAR
PRODID;X-RICAL-TZSOURCE=TZINFO:-//Calagator//EN
CALSCALE:GREGORIAN
X-WR-CALNAME:Adapt2Play
METHOD:PUBLISH
VERSION:2.0
BEGIN:VEVENT
CREATED;VALUE=DATE-TIME:20260408T000331Z
DTEND;VALUE=DATE-TIME:20260519T140000Z
DTSTART;VALUE=DATE-TIME:20260519T130000Z
DTSTAMP;VALUE=DATE-TIME:20260408T000331Z
LAST-MODIFIED;VALUE=DATE-TIME:20260416T000340Z
UID:https://adapt2play.org/events/22793-oxford-area-spring-games
DESCRIPTION:Are you an HOD (Head of Delegation)?\n\nIf so\, CLICK HERE to
  submit your team/delegation’s Intent to Participate in these Games.\n(D
 UE APRIL 24th)\n\nImported from: https://adapt2play.org/events/22793-oxf
 ord-area-spring-games
URL:https://www.somaine.org/event/oxford-area-spring-games/
SUMMARY:OXFORD - Area Spring Games
LOCATION:Location:: Montenegro\,    
SEQUENCE:3
END:VEVENT
END:VCALENDAR
