BEGIN:VCALENDAR
PRODID;X-RICAL-TZSOURCE=TZINFO:-//Calagator//EN
CALSCALE:GREGORIAN
X-WR-CALNAME:Adapt2Play
METHOD:PUBLISH
VERSION:2.0
BEGIN:VEVENT
CREATED;VALUE=DATE-TIME:20260408T000331Z
DTEND;VALUE=DATE-TIME:20260508T130000Z
DTSTART;VALUE=DATE-TIME:20260508T120000Z
DTSTAMP;VALUE=DATE-TIME:20260408T000331Z
LAST-MODIFIED;VALUE=DATE-TIME:20260409T000333Z
UID:https://adapt2play.org/events/22792-aroostook-county-spring-games
DESCRIPTION:[&quot\;Information Coming Soon! \\n  \\nRain Date&quot\;\, &
 quot\; May 15th&quot\;]\n\nImported from: https://adapt2play.org/events/
 22792-aroostook-county-spring-games
URL:https://www.somaine.org/event/aroostook-county-spring-games/
SUMMARY:Aroostook County Spring Games
LOCATION:Location:: 569 Skyway Street\, Presque Isle Maine 04769 
SEQUENCE:2
END:VEVENT
END:VCALENDAR
