BEGIN:VCALENDAR
PRODID;X-RICAL-TZSOURCE=TZINFO:-//Calagator//EN
CALSCALE:GREGORIAN
X-WR-CALNAME:Adapt2Play
METHOD:PUBLISH
VERSION:2.0
BEGIN:VEVENT
CREATED;VALUE=DATE-TIME:20260408T000331Z
DTEND;VALUE=DATE-TIME:20260502T170000Z
DTSTART;VALUE=DATE-TIME:20260502T160000Z
DTSTAMP;VALUE=DATE-TIME:20260408T000331Z
LAST-MODIFIED;VALUE=DATE-TIME:20260414T000315Z
UID:https://adapt2play.org/events/22791-athletics-track-field-and-bocce-c
 oach-certification-training-registration
DESCRIPTION:Complete the form below to register for the Athletics and/or 
 Bocce coach certification courses being offered. \n\n\nSaturday\, May 2n
 d at South Portland 637 Highland Ave\, South Portland\, ME 04106\n\n\n\n
 Athletics (Track &amp\; Field) – 12pm – 2pm\nBocce – 2:30pm – 4:30pm\n\n
 \n  \nClick Here to Register\n\nImported from: https://adapt2play.org/ev
 ents/22791-athletics-track-field-and-bocce-coach-certification-training-
 registration
URL:https://www.somaine.org/event/athletics-track-field-and-bocce-coach-c
 ertification-training-registration/
SUMMARY:Athletics (Track & Field) and Bocce Coach Certification Training 
 Registration
LOCATION:Location:: 637 Highland Avenue\, South Portland Maine 04106 
SEQUENCE:3
END:VEVENT
END:VCALENDAR
