BEGIN:VCALENDAR
PRODID;X-RICAL-TZSOURCE=TZINFO:-//Calagator//EN
CALSCALE:GREGORIAN
X-WR-CALNAME:Adapt2Play
METHOD:PUBLISH
VERSION:2.0
BEGIN:VEVENT
CREATED;VALUE=DATE-TIME:20260408T000331Z
DTEND;VALUE=DATE-TIME:20260418T150000Z
DTSTART;VALUE=DATE-TIME:20260418T140000Z
DTSTAMP;VALUE=DATE-TIME:20260408T000331Z
LAST-MODIFIED;VALUE=DATE-TIME:20260409T000333Z
UID:https://adapt2play.org/events/22790-athletics-track-field-and-bocce-c
 oach-certification-training
DESCRIPTION:Complete the form below to register for the Athletics and/or 
 Bocce coach certification courses being offered. \n\nSaturday\, April 18
 th at Hampden Academy 89 Western Ave\, Hampden\, ME 04444\n\n\nAthletics
  (Track &amp\; Field) – 10am – 12pm\nBocce – 12:30pm – 2:30pm\n\n\n  \nC
 lick Here to Register\n\nImported from: https://adapt2play.org/events/22
 790-athletics-track-field-and-bocce-coach-certification-training
URL:https://www.somaine.org/event/athletics-track-field-and-bocce-coach-c
 ertification-training/
SUMMARY:Athletics (Track & Field) and Bocce Coach Certification Training
LOCATION:Location:: 1 Main Road North\, Hampden Maine 04444 
SEQUENCE:2
END:VEVENT
END:VCALENDAR
