BEGIN:VCALENDAR
PRODID;X-RICAL-TZSOURCE=TZINFO:-//Calagator//EN
CALSCALE:GREGORIAN
X-WR-CALNAME:Adapt2Play
METHOD:PUBLISH
VERSION:2.0
BEGIN:VEVENT
CREATED;VALUE=DATE-TIME:20260408T000051Z
DTEND;VALUE=DATE-TIME:20261117T013000Z
DTSTART;VALUE=DATE-TIME:20261117T003000Z
DTSTAMP;VALUE=DATE-TIME:20260408T000051Z
LAST-MODIFIED;VALUE=DATE-TIME:20260408T000051Z
UID:https://adapt2play.org/events/22777-monday-hang-out
DESCRIPTION:We host the Monday Hang out on the first and third Monday of 
 every month using the zoom platform. This is a good opportunity to meet 
 new people\, ask questions\, hang out and chat or sit back and listen in
 . \nhttps://us06web.zoom.us/j/89745088624?pwd=yOkiKxYFvM9Mb4Vm5cFDeCyMff
 KQct.1 \nMeeting ID: 897 4508 8624 \nPasscode: 190953\n\nImported from: 
 https://adapt2play.org/events/22777-monday-hang-out
URL:https://www.spinal-network.org/event-calendar/monday-hang-out-2/2026-
 11-16/
SUMMARY:Monday Hang Out
LOCATION:Location:: Zoom Zoom Road\, Sheffield Village Ohio 44035 
SEQUENCE:1
END:VEVENT
END:VCALENDAR
