BEGIN:VCALENDAR
PRODID;X-RICAL-TZSOURCE=TZINFO:-//Calagator//EN
CALSCALE:GREGORIAN
X-WR-CALNAME:Adapt2Play
METHOD:PUBLISH
VERSION:2.0
BEGIN:VEVENT
CREATED;VALUE=DATE-TIME:20260407T000336Z
DTEND;VALUE=DATE-TIME:20260409T150000Z
DTSTART;VALUE=DATE-TIME:20260409T140000Z
DTSTAMP;VALUE=DATE-TIME:20260407T000336Z
LAST-MODIFIED;VALUE=DATE-TIME:20260408T000346Z
UID:https://adapt2play.org/events/22775-vanessa-herard-thursday-sailing-v
 eterans-and-first-responders
DESCRIPTION:April 9\, 2026 10:00am EDT\nCalendar: Veterans and First Resp
 onders\nName: Vanessa Herard\nPhone: +19546849341\nEmail: vherard76@gmai
 l.com\nCertificate Code: SAIL-2026\n\nLocation\n============\nTeam Parad
 ise Sailing\, 2476 S. Bayshore Dr. Miami\, FL 33133\n\n\nTerms &amp\; Co
 nditions for Veterans and First Responders \n============\nI have read a
 nd agree to the terms above: yes\n\nHow did you find us: VA Hospital\n\n
 Are you a Diasbled Veteran?: yes\n\nAre you a Veteran: yes\n\nAre you a 
 First Responder?: no\n\n\nChange Appointment:\nhttps://teamparadise.squa
 respace.com/config/scheduling/appointments/view/1683032479\n\n\nPlease u
 se Acuity Scheduling to cancel or reschedule this appointment.\n(created
  by Acuity Scheduling)\nAcuityID=1683032479\n\n\nImported from: https://
 adapt2play.org/events/22775-vanessa-herard-thursday-sailing-veterans-and
 -first-responders
SUMMARY:Vanessa Herard: Thursday Sailing (Veterans and First Responders)
LOCATION:Location:: 2476 South Bayshore Drive\, Miami Florida 33133 
SEQUENCE:2
END:VEVENT
END:VCALENDAR
