BEGIN:VCALENDAR
PRODID;X-RICAL-TZSOURCE=TZINFO:-//Calagator//EN
CALSCALE:GREGORIAN
X-WR-CALNAME:Adapt2Play
METHOD:PUBLISH
VERSION:2.0
BEGIN:VEVENT
CREATED;VALUE=DATE-TIME:20260407T000336Z
DTEND;VALUE=DATE-TIME:20260430T150000Z
DTSTART;VALUE=DATE-TIME:20260430T140000Z
DTSTAMP;VALUE=DATE-TIME:20260407T000336Z
LAST-MODIFIED;VALUE=DATE-TIME:20260418T000434Z
UID:https://adapt2play.org/events/22774-sarah-miranda-thursday-sailing-ve
 terans-and-first-responders
DESCRIPTION:April 30\, 2026 10:00am EDT\nCalendar: Veterans and First Res
 ponders\nName: Sarah Miranda\nPhone: +19545513708\nEmail: sarah.miranda3
 2@yahoo.com\nCertificate Code: SAIL-2026\n\nLocation\n============\nTeam
  Paradise Sailing\, 2476 S. Bayshore Dr. Miami\, FL 33133\n\n\nTerms &am
 p\; Conditions for Veterans and First Responders \n============\nI have 
 read and agree to the terms above: yes\n\nHow did you find us: VA Hospit
 al\n\nAre you a Diasbled Veteran?: yes\n\nAre you a Veteran: yes\n\nAre 
 you a First Responder?: no\n\n\nChange Appointment:\nhttps://teamparadis
 e.squarespace.com/config/scheduling/appointments/view/1683202627\n\n\nPl
 ease use Acuity Scheduling to cancel or reschedule this appointment.\n(c
 reated by Acuity Scheduling)\nAcuityID=1683202627\n\n\nImported from: ht
 tps://adapt2play.org/events/22774-sarah-miranda-thursday-sailing-veteran
 s-and-first-responders
SUMMARY:Sarah Miranda: Thursday Sailing (Veterans and First Responders)
LOCATION:Location:: 2476 South Bayshore Drive\, Miami Florida 33133 
SEQUENCE:4
END:VEVENT
END:VCALENDAR
