BEGIN:VCALENDAR
PRODID;X-RICAL-TZSOURCE=TZINFO:-//Calagator//EN
CALSCALE:GREGORIAN
X-WR-CALNAME:Adapt2Play
METHOD:PUBLISH
VERSION:2.0
BEGIN:VEVENT
CREATED;VALUE=DATE-TIME:20260407T000336Z
DTEND;VALUE=DATE-TIME:20260430T150000Z
DTSTART;VALUE=DATE-TIME:20260430T140000Z
DTSTAMP;VALUE=DATE-TIME:20260407T000336Z
LAST-MODIFIED;VALUE=DATE-TIME:20260418T000434Z
UID:https://adapt2play.org/events/22773-jared-simon-thursday-sailing-vete
 rans-and-first-responders
DESCRIPTION:April 30\, 2026 10:00am EDT\nCalendar: Veterans and First Res
 ponders\nName: Jared Simon\nPhone: +18452701180\nEmail: jaredncfd@gmail.
 com\nCertificate Code: SAIL-2026\n\nLocation\n============\nTeam Paradis
 e Sailing\, 2476 S. Bayshore Dr. Miami\, FL 33133\n\n\nTerms &amp\; Cond
 itions for Veterans and First Responders \n============\nI have read and
  agree to the terms above: yes\n\nHow did you find us: VA Hospital\n\nAr
 e you a Diasbled Veteran?: no\n\nAre you a Veteran: no\n\nAre you a Firs
 t Responder?: yes\n\n\nChange Appointment:\nhttps://teamparadise.squares
 pace.com/config/scheduling/appointments/view/1683205114\n\n\nPlease use 
 Acuity Scheduling to cancel or reschedule this appointment.\n(created by
  Acuity Scheduling)\nAcuityID=1683205114\n\n\nImported from: https://ada
 pt2play.org/events/22773-jared-simon-thursday-sailing-veterans-and-first
 -responders
SUMMARY:Jared Simon: Thursday Sailing (Veterans and First Responders)
LOCATION:Location:: 2476 South Bayshore Drive\, Miami Florida 33133 
SEQUENCE:4
END:VEVENT
END:VCALENDAR
