BEGIN:VCALENDAR
PRODID;X-RICAL-TZSOURCE=TZINFO:-//Calagator//EN
CALSCALE:GREGORIAN
X-WR-CALNAME:Adapt2Play
METHOD:PUBLISH
VERSION:2.0
BEGIN:VEVENT
CREATED;VALUE=DATE-TIME:20260407T000324Z
DTEND;VALUE=DATE-TIME:20260508T140000Z
DTSTART;VALUE=DATE-TIME:20260508T130000Z
DTSTAMP;VALUE=DATE-TIME:20260407T000324Z
LAST-MODIFIED;VALUE=DATE-TIME:20260412T000307Z
UID:https://adapt2play.org/events/22772-knox-waldo-spring-games
DESCRIPTION:[&quot\;Event Locations &amp\; Date\\n\\n\\nFriday\, May 8th 
 (no rain date)\\n\\nAnnual Knox Waldo Track Meet \\nLocation:  25 Keelso
 n Drive Rockport on the Camden Hills Regional High School Campus \\nRegi
 stration for teams from 9:00-9:45\\nParade at 10:00\, followed by the ev
 ents\\n\\n\\n\\nRegistration Instructions: Below is the registration Exc
 el (YOU MUST MAKE A COPY &amp\; you can convert to a Google Form documen
 t\, either is fine\, I use Google forms). To register your delegation\, 
 please complete and return the file by the April 15th deadline. \\n \\nS
 teps to complete registration\\n\\nDownload and save a copy of the attac
 hed Excel file/ Google Form (File → Save As).\\n\\nName the file: Delega
 tion Name – Sport\\n\\n\\n\\nComplete one row for each delegation member
  (HOD\, Head Coach\, Assistant Coaches\, Athletes\, and Unified Partners
 ).\\n\\n\\nFill out all yellow-highlighted fields.\\n\\n\\n\\nSave your 
 completed file.\\n\\nEmail/ Share the Excel/ Google file to Ana at anast
 asia.alley@fivetowns.net\\n\\n\\nSubject line: Delegation Name – Team Re
 gistration\\n\\n\\nPlease note: Encrypted files\, PDFs\, or handwritten 
 documents will not be accepted.\\n\\n\\n\\n\\nImportant Tips\\n\\nYou mu
 st download and enable editing the Excel or Google Form file&quot\;\, &q
 uot\; the original link cannot be edited. Make an electronic copy to sha
 re with me when completed.\\nInformation entered should include accurate
  spelling and correct DOBs for all participants (including coaches) are 
 required.\\nIncomplete forms (missing DOBs\, events\, qualifying scores\
 , etc.) will not be accepted.\\nUse one line per delegation member and b
 e consistent with your delegation’s name.\\nDo not modify the format of 
 the spreadsheet.\\nONLY 3 events per athlete are allowed\, with exceptio
 n of the 4×100 Unified or Special Olympic Relay Teams\, which can be add
 ed to the 3 events. Relay teams require 4 participants.\\n\\nRequired Pa
 perwork\\nAll required paperwork must be completed prior to the event fo
 r Athletes\, Coaches\, Volunteers\, and Unified Partners. Please note th
 at Volunteer A and Unified Partner forms expire every three years.\\n\\n
 Athlete Registration / Renewal Form – Special Olympics Maine now uses an
  annual Renewal Form for returning athletes. If an athlete has already c
 ompleted the full Athlete Registration Form\, only the Renewal Form is r
 equired each year.\\nCoach &amp\; Unified Partner Form – Coaches\, Assis
 tant Coaches\, and Unified Partners ages 18 and over must also complete 
 the online background check and Protective Behaviors training.\\nHead Co
 ach Sport Certification – Each delegation must have at least one certifi
 ed Head Coach per sport.\\n\\nAll Required Paperwork should be completed
  online or submitted by 2 weeks prior to the event to the Special Olympi
 cs Maine State Office:\\n\\nEmail: anastasia.alley@fivetowns.net\\nMail:
  Special Olympics Maine\, 525 Main Street\, Unit D\, South Portland\, ME
  04106\\n\\n05/08/2026 KWL Track Meet Registration Link (cut\, paste\, Y
 OU MUST make a copy\, do not fill out the original!!!): \\nhttps://docs.
 google.com/spreadsheets/d/1bJkCBeYrPOmbac6h0QtBkm21TmNr38Gc/edit?usp=sha
 ring&amp\;ouid=116136062093819696741&amp\;rtpof=true&amp\;sd=true&quot\;
 ]\n\nImported from: https://adapt2play.org/events/22772-knox-waldo-sprin
 g-games
URL:https://www.somaine.org/event/knox-waldo-spring-games-2/
SUMMARY:Knox-Waldo Spring Games
LOCATION:Location:: 25 Keelson Drive\, Rockport Maine 04856 
SEQUENCE:3
END:VEVENT
END:VCALENDAR
