BEGIN:VCALENDAR
PRODID;X-RICAL-TZSOURCE=TZINFO:-//Calagator//EN
CALSCALE:GREGORIAN
X-WR-CALNAME:Adapt2Play
METHOD:PUBLISH
VERSION:2.0
BEGIN:VEVENT
CREATED;VALUE=DATE-TIME:20260407T000324Z
DTEND;VALUE=DATE-TIME:20260508T140000Z
DTSTART;VALUE=DATE-TIME:20260508T130000Z
DTSTAMP;VALUE=DATE-TIME:20260407T000324Z
LAST-MODIFIED;VALUE=DATE-TIME:20260408T000331Z
UID:https://adapt2play.org/events/22771-somerset-upper-kennebec-spring-ga
 mes
DESCRIPTION:Registration Coming Soon!\n\nImported from: https://adapt2pla
 y.org/events/22771-somerset-upper-kennebec-spring-games
URL:https://www.somaine.org/event/somerset-upper-kennebec-spring-games/
SUMMARY:Somerset / Upper Kennebec Spring Games
LOCATION:Location:: 61 Academy Circle\, Skowhegan Maine 04976 
SEQUENCE:2
END:VEVENT
END:VCALENDAR
