BEGIN:VCALENDAR
PRODID;X-RICAL-TZSOURCE=TZINFO:-//Calagator//EN
CALSCALE:GREGORIAN
X-WR-CALNAME:Adapt2Play
METHOD:PUBLISH
VERSION:2.0
BEGIN:VEVENT
CREATED;VALUE=DATE-TIME:20260406T000331Z
DTEND;VALUE=DATE-TIME:20261004T203000Z
DTSTART;VALUE=DATE-TIME:20261004T193000Z
DTSTAMP;VALUE=DATE-TIME:20260406T000331Z
LAST-MODIFIED;VALUE=DATE-TIME:20260407T000350Z
UID:https://adapt2play.org/events/22707-westerville-cycling
DESCRIPTION:REGISTER HEREDescription: Feel the camaraderie riding as a gr
 oup\, where pace and distance is varied\, based on the abilities of the 
 team. Enjoy the sense of community these rides bring as you cheer your f
 ellow cyclists on.Arrival Time: 3:30 p.m. Event Time: 4 p.m. - 6 p.m. Re
 gistration closes 72 hours before the event\n\nImported from: https://ad
 apt2play.org/events/22707-westerville-cycling
SUMMARY:Westerville Cycling
LOCATION:Location:: 325 North Cleveland Avenue\, Westerville Ohio 43082 
SEQUENCE:2
END:VEVENT
END:VCALENDAR
