BEGIN:VCALENDAR
PRODID;X-RICAL-TZSOURCE=TZINFO:-//Calagator//EN
CALSCALE:GREGORIAN
X-WR-CALNAME:Adapt2Play
METHOD:PUBLISH
VERSION:2.0
BEGIN:VEVENT
CREATED;VALUE=DATE-TIME:20260406T000331Z
DTEND;VALUE=DATE-TIME:20260604T143000Z
DTSTART;VALUE=DATE-TIME:20260604T133000Z
DTSTAMP;VALUE=DATE-TIME:20260406T000331Z
LAST-MODIFIED;VALUE=DATE-TIME:20260407T000350Z
UID:https://adapt2play.org/events/22701-veteran-cycling
DESCRIPTION:REGISTER HEREDescription: FREE for all Veterans. Join a small
  group of Veterans for Bike Rides in Westerville. Request a bike from AS
 C during registration or bring your own! Volunteers will be on-site to a
 ssist with equipment and riding. Arrival Time: 9:30 a.m.Event Time: 10 a
 .m. - NoonRegistration closes two days before the event\n\nImported from
 : https://adapt2play.org/events/22701-veteran-cycling
SUMMARY:Veteran Cycling
LOCATION:Location:: 325 North Cleveland Avenue\, Westerville Ohio 43082 
SEQUENCE:2
END:VEVENT
END:VCALENDAR
