BEGIN:VCALENDAR
PRODID;X-RICAL-TZSOURCE=TZINFO:-//Calagator//EN
CALSCALE:GREGORIAN
X-WR-CALNAME:Adapt2Play
METHOD:PUBLISH
VERSION:2.0
BEGIN:VEVENT
CREATED;VALUE=DATE-TIME:20260406T000315Z
DTEND;VALUE=DATE-TIME:20260421T193000Z
DTSTART;VALUE=DATE-TIME:20260421T183000Z
DTSTAMP;VALUE=DATE-TIME:20260406T000315Z
LAST-MODIFIED;VALUE=DATE-TIME:20260407T000332Z
UID:https://adapt2play.org/events/22687-level-1-2-team
DESCRIPTION:\n\nImported from: https://adapt2play.org/events/22687-level-
 1-2-team
URL:https://rowrio.org/event/level-1-2-team/2026-04-21/
SUMMARY:Level 1/2 Team
LOCATION:Location:: 730 North Mill Avenue\, Tempe Arizona 85288 
SEQUENCE:2
END:VEVENT
END:VCALENDAR
