BEGIN:VCALENDAR
PRODID;X-RICAL-TZSOURCE=TZINFO:-//Calagator//EN
CALSCALE:GREGORIAN
X-WR-CALNAME:Adapt2Play
METHOD:PUBLISH
VERSION:2.0
BEGIN:VEVENT
CREATED;VALUE=DATE-TIME:20260406T000244Z
DTEND;VALUE=DATE-TIME:20260502T140000Z
DTSTART;VALUE=DATE-TIME:20260502T130000Z
DTSTAMP;VALUE=DATE-TIME:20260406T000244Z
LAST-MODIFIED;VALUE=DATE-TIME:20260417T000252Z
UID:https://adapt2play.org/events/22685-group-run-achilles-boston
DESCRIPTION:\n\nImported from: https://adapt2play.org/events/22685-group-
 run-achilles-boston
URL:https://adaptivesportsne.org/event/achilles-international-runs-aib-bo
 ston-2/2026-05-02/
SUMMARY:Group Run - Achilles (Boston)
LOCATION:Location:: 276 Newbury Street\, Boston Massachusetts 02116 
SEQUENCE:4
END:VEVENT
END:VCALENDAR
