BEGIN:VCALENDAR
PRODID;X-RICAL-TZSOURCE=TZINFO:-//Calagator//EN
CALSCALE:GREGORIAN
X-WR-CALNAME:Adapt2Play
METHOD:PUBLISH
VERSION:2.0
BEGIN:VEVENT
CREATED;VALUE=DATE-TIME:20260406T000022Z
DTEND;VALUE=DATE-TIME:20261216T183000Z
DTSTART;VALUE=DATE-TIME:20261216T173000Z
DTSTAMP;VALUE=DATE-TIME:20260406T000022Z
LAST-MODIFIED;VALUE=DATE-TIME:20260407T000018Z
UID:https://adapt2play.org/events/22634-2026-december-wounded-warrior
DESCRIPTION:\n\nImported from: https://adapt2play.org/events/22634-2026-d
 ecember-wounded-warrior
URL:https://www.accessurf.org/event/2026-december-wounded-warrior/
SUMMARY:2026 December Wounded Warrior
LOCATION:Location:: Ewa Beach Road\, Ewa Beach Hawaii 96706 
SEQUENCE:2
END:VEVENT
END:VCALENDAR
