BEGIN:VCALENDAR
PRODID;X-RICAL-TZSOURCE=TZINFO:-//Calagator//EN
CALSCALE:GREGORIAN
X-WR-CALNAME:Adapt2Play
METHOD:PUBLISH
VERSION:2.0
BEGIN:VEVENT
CREATED;VALUE=DATE-TIME:20260405T000332Z
DTEND;VALUE=DATE-TIME:20260420T193000Z
DTSTART;VALUE=DATE-TIME:20260420T183000Z
DTSTAMP;VALUE=DATE-TIME:20260405T000332Z
LAST-MODIFIED;VALUE=DATE-TIME:20260406T000259Z
UID:https://adapt2play.org/events/22631-track-and-field
DESCRIPTION:Spring Track and Field 2026\n\n\n\n\n\nThe BlazeSports Adapti
 ve Track &amp\; Field Spring Season offers the opportunity to continue t
 he development and training of our athletes. Our program is open to all 
 skill levels\, competitive\, recreational\, or an athlete who is interes
 ted in trying a new sport. Athletes are exposed to events such as: wheel
 chair racing\, race running/ frame running\, ambulatory track\, long jum
 p\, and seated &amp\; ambulatory field events (discuss\, shot put\, jave
 lin). *Event participation dependent on athlete’s disability. \nFor more
  information or questions\, email: erobinson@blazesports.org \nSeason St
 art: Monday\, March 16th \nSeason End: Saturday\, July 6th \nPractice Ti
 me: Monday’s – 6:30pm-8:00pm &amp\; Saturday’s – 9am-11am \nWhere: Mill 
 Springs Academy\, 13660 New Providence Rd\, Alpharetta\, GA 30004 \nAthl
 ete eligibility: Ages 6 – 22 years old. Primary diagnosis as a physical 
 disability including but not limited to: Spinal Cord Injury\, Cerebral P
 alsy\, Spina Bifida\, Amputation\, Limb Difference\, Visual Impairment\,
  Dwarfism\, Traumatic Brain Injury\, etc. \nAthletes of all skills level
 s are welcome. \n*Sighted guides can be available for athletes with visu
 al impairment if needed* \n  \nEquipment: The BlazeSports Equipment Loan
  Program is available for all Youth Members. If your athlete needs a rac
 ing chair\, BlazeSports staff &amp\; coaches will fit your athlete to th
 e most suitable chair we have available. The loan program has no initial
  cost to the youth member although credit card information is required. 
 *BlazeSports does not loan running blades\, running crutches\, or other 
 ambulation assistive devices.* \nAll throwing equipment will be provided
  by BlazeSports.\n\nImported from: https://adapt2play.org/events/22631-t
 rack-and-field
URL:https://blazesports.org/event/track-and-field/2026-04-20/
SUMMARY:Track and Field
LOCATION:Location:: 13660 New Providence Road\, Alpharetta Georgia 30004 
SEQUENCE:2
END:VEVENT
END:VCALENDAR
