BEGIN:VCALENDAR
PRODID;X-RICAL-TZSOURCE=TZINFO:-//Calagator//EN
CALSCALE:GREGORIAN
X-WR-CALNAME:Adapt2Play
METHOD:PUBLISH
VERSION:2.0
BEGIN:VEVENT
CREATED;VALUE=DATE-TIME:20260405T000332Z
DTEND;VALUE=DATE-TIME:20260418T143000Z
DTSTART;VALUE=DATE-TIME:20260418T133000Z
DTSTAMP;VALUE=DATE-TIME:20260405T000332Z
LAST-MODIFIED;VALUE=DATE-TIME:20260406T000259Z
UID:https://adapt2play.org/events/22629-lady-ballers
DESCRIPTION:Lady Ballers 2025-2026 Season\nThe BlazeSports Lady Ballers i
 s Georgia’s only all-female wheelchair basketball program. In our third 
 year\, the team offers both competitive and recreational experiences for
  female athletes 12 – 99 years old who have a physical disability. Our p
 rogram is sanctioned under the Women’s Division of the National Wheelcha
 ir Basketball Association (NWBA).\n\n\nRegister here\n\n________________
 ________ \nLady Ballers 2025-2026\nEvery other Saturday starting Septemb
 er 13th \nLocation: St. James United Methodist Church \nEmail asmith@bla
 zesports.org for more information.\n\nImported from: https://adapt2play.
 org/events/22629-lady-ballers
URL:https://blazesports.org/event/lady-ballers-2025-2026/2026-04-18/
SUMMARY:Lady Ballers
LOCATION:Location:: 4400 Peachtree Dunwoody Road\, Atlanta Georgia 30342 
SEQUENCE:2
END:VEVENT
END:VCALENDAR
