BEGIN:VCALENDAR
PRODID;X-RICAL-TZSOURCE=TZINFO:-//Calagator//EN
CALSCALE:GREGORIAN
X-WR-CALNAME:Adapt2Play
METHOD:PUBLISH
VERSION:2.0
BEGIN:VEVENT
CREATED;VALUE=DATE-TIME:20260405T000255Z
DTEND;VALUE=DATE-TIME:20260509T110000Z
DTSTART;VALUE=DATE-TIME:20260509T100000Z
DTSTAMP;VALUE=DATE-TIME:20260405T000255Z
LAST-MODIFIED;VALUE=DATE-TIME:20260419T000229Z
UID:https://adapt2play.org/events/22625-wheelchair-football-recreational-
 practice-play
DESCRIPTION:Get in the game on May 9th with our Wheelchair Football Recre
 ational Practice &amp\; Play session. Designed for athletes of all exper
 ience levels\, this event focuses on skill development\, teamwork\, and 
 high-energy gameplay in an inclusive and supportive environment. Whether
  you’re new or experienced\, come out\, compete\, and be part of the act
 ion.\n\nImported from: https://adapt2play.org/events/22625-wheelchair-fo
 otball-recreational-practice-play
URL:https://smclf.org/event/wheelchair-football-recreational-practice-pla
 y/
SUMMARY:Wheelchair Football Recreational Practice & Play
LOCATION:Location:: 3100 Tifton Street\, Kenner Louisiana 70065 
SEQUENCE:8
END:VEVENT
END:VCALENDAR
