BEGIN:VCALENDAR
PRODID;X-RICAL-TZSOURCE=TZINFO:-//Calagator//EN
CALSCALE:GREGORIAN
X-WR-CALNAME:Adapt2Play
METHOD:PUBLISH
VERSION:2.0
BEGIN:VEVENT
CREATED;VALUE=DATE-TIME:20260405T000255Z
DTEND;VALUE=DATE-TIME:20260410T140000Z
DTSTART;VALUE=DATE-TIME:20260410T130000Z
DTSTAMP;VALUE=DATE-TIME:20260405T000255Z
LAST-MODIFIED;VALUE=DATE-TIME:20260405T000255Z
UID:https://adapt2play.org/events/22622-spring-bowling-fest-exhibition-sp
 inal-cord-injury-veterans-community
DESCRIPTION:Celebrate community\, competition\, and connection at our Spr
 ing Bowling Fest Exhibition on April 10th. This inclusive event brings t
 ogether spinal cord injury veterans and community members for a fun\, su
 pportive day of bowling\, camaraderie\, and shared experiences. All skil
 l levels are welcome—come roll\, connect\, and be part of something mean
 ingful. \nSMCLF All-Inclusive Adaptive\,  Ambulatory &amp\; Wheelchair B
 owling  Experience\,  at Game-On-Social Hub Entertainment Center. Vetera
 ns and Other Individuals Enjoying The Food\, Fun and Bowling Experience 
 Together. Join us again on April 10th\, from 1PM to 3PM\, and future eve
 nts.\n\nImported from: https://adapt2play.org/events/22622-spring-bowlin
 g-fest-exhibition-spinal-cord-injury-veterans-community
URL:https://smclf.org/event/spring-bowling-fest-exhibition-spinal-cord-in
 jury-veterans-community/
SUMMARY:Spring Bowling Fest Exhibition – Spinal Cord Injury Veterans & Co
 mmunity
LOCATION:Location:: 2421 Veterans Memorial Boulevard\, Kenner Louisiana 7
 0062 
SEQUENCE:1
END:VEVENT
END:VCALENDAR
