BEGIN:VCALENDAR
PRODID;X-RICAL-TZSOURCE=TZINFO:-//Calagator//EN
CALSCALE:GREGORIAN
X-WR-CALNAME:Adapt2Play
METHOD:PUBLISH
VERSION:2.0
BEGIN:VEVENT
CREATED;VALUE=DATE-TIME:20260405T000048Z
DTEND;VALUE=DATE-TIME:20261110T010000Z
DTSTART;VALUE=DATE-TIME:20261110T000000Z
DTSTAMP;VALUE=DATE-TIME:20260405T000048Z
LAST-MODIFIED;VALUE=DATE-TIME:20260405T000048Z
UID:https://adapt2play.org/events/22612-family-caregiver-support-group
DESCRIPTION:This group is for family members who are also the caregiver. 
 It’s a time to ask questions\, share experiences and just chat with othe
 r family caregivers. Richard Green\, a licensed social worker with over 
 40 years of experience with spinal cord injury and the impact on the fam
 ily. \nhttps://us06web.zoom.us/j/85382050145?pwd=N1p3WXVmTmd0U1E2djhIMFV
 keWxCdz09 \nMeeting ID: 853 8205 0145 \nPasscode: 645054\n\nImported fro
 m: https://adapt2play.org/events/22612-family-caregiver-support-group
URL:https://www.spinal-network.org/event-calendar/family-caregiver-suppor
 t-group/2026-11-09/
SUMMARY:Family Caregiver Support Group
LOCATION:Location:: Zoom Zoom Road\, Sheffield Village Ohio 44035 
SEQUENCE:1
END:VEVENT
END:VCALENDAR
