BEGIN:VCALENDAR
PRODID;X-RICAL-TZSOURCE=TZINFO:-//Calagator//EN
CALSCALE:GREGORIAN
X-WR-CALNAME:Adapt2Play
METHOD:PUBLISH
VERSION:2.0
BEGIN:VEVENT
CREATED;VALUE=DATE-TIME:20260404T000237Z
DTEND;VALUE=DATE-TIME:20260601T160000Z
DTSTART;VALUE=DATE-TIME:20260601T150000Z
DTSTAMP;VALUE=DATE-TIME:20260404T000237Z
LAST-MODIFIED;VALUE=DATE-TIME:20260418T000331Z
UID:https://adapt2play.org/events/22605-adaptive-pickleball-lavalley-fami
 ly-community-center-new-newport-rec-newport-nh
DESCRIPTION:Cost: TBD \nLocation: 17 Meadow Rd\, Newport\, NH \nNo outsid
 e shoes allowed\, please bring a second pair of shoes to wear indoors.\n
 \nImported from: https://adapt2play.org/events/22605-adaptive-pickleball
 -lavalley-family-community-center-new-newport-rec-newport-nh
URL:https://nehsa.org/events/adaptive-pickleball-lavalley-family-communit
 y-center-new-newport-rec-newport-nh-10/
SUMMARY:Adaptive Pickleball - Lavalley Family Community Center (new Newpo
 rt Rec)\, Newport\, NH
LOCATION:Location:: 15-17 Meadow Road\, Newport New Hampshire 03773 
SEQUENCE:8
END:VEVENT
END:VCALENDAR
